BEGIN:VCALENDAR
VERSION:2.0
PRODID:-//PYVOBJECT//NONSGML Version 0.9.9//EN
X-WR-TIMEZONE:Africa/Johannesburg
BEGIN:VTIMEZONE
TZID:Africa/Johannesburg
BEGIN:STANDARD
DTSTART:20000101T000000
RRULE:FREQ=YEARLY;BYMONTH=1
TZNAME:SAST
TZOFFSETFROM:+0200
TZOFFSETTO:+0200
END:STANDARD
END:VTIMEZONE
BEGIN:VEVENT
UID:20260421T075132Z - 83147@eos-content
DTSTART;TZID=Africa/Johannesburg:20260426T120000
DTEND;TZID=Africa/Johannesburg:20260426T130000
ATTENDEE:MAILTO:roland@rolix.co.za
DESCRIPTION:https://www.rolixrealestate.co.za/results/residential/to-let/ca
 pe-town/sea-point/apartment/2840009/1-sea-shells-1-st-johns-road/\n\nConta
 ct Roland to secure your viewing and for further information\n\nRoland Bro
 wn ((0) 72 674 7266)
DTSTAMP:20260421T075132Z
LOCATION:1 Sea-Shells\, 1 St Johns Road\, Sea Point\, Cape Town
SUMMARY:Rolix Real Estate Show Day - RL658
END:VEVENT
END:VCALENDAR
